BEGIN:VCALENDAR
VERSION:2.0
PRODID:-//85.13.132.198//NONSGML kigkonsult.se iCalcreator 2.20//
CALSCALE:GREGORIAN
METHOD:PUBLISH
X-WR-TIMEZONE:Europe/Berlin
BEGIN:VEVENT
UID:event664@Kulturgemeinschaft Ottbergen e.V.
DTSTAMP:20260421T081136Z
CATEGORIES:Kulturgemeinschaft Ottbergen
DESCRIPTION:Whisky Tasting\nKategorie: Kulturgemeinschaft Ottbergen\nICS-Li
 nk: https://www.kulturgemeinschaft-ottbergen.de/index.php?option=com_jem&v
 iew=event&id=664:whisky-tasting\n
DTSTART;VALUE=DATE:20260220
DTEND;VALUE=DATE:20260221
LOCATION:Bahnhofskantine\,Bahnhofstrasse\,37671 Höxter-Ottbergen
SUMMARY:Whisky Tasting
URL:https://www.kulturgemeinschaft-ottbergen.de/index.php?option=com_jem&vi
 ew=event&id=664:whisky-tasting
END:VEVENT
END:VCALENDAR
