BEGIN:VCALENDAR
VERSION:2.0
PRODID:-//85.13.132.198//NONSGML kigkonsult.se iCalcreator 2.20//
CALSCALE:GREGORIAN
METHOD:PUBLISH
X-WR-TIMEZONE:Europe/Berlin
BEGIN:VEVENT
UID:event673@Kulturgemeinschaft Ottbergen e.V.
DTSTAMP:20260420T030249Z
CATEGORIES:Kulturgemeinschaft Ottbergen
DESCRIPTION:Maibaum aufstellen\nKategorie: Kulturgemeinschaft Ottbergen\nIC
 S-Link: http://www.kulturgemeinschaft-ottbergen.de/index.php?option=com_je
 m&view=event&id=673:maibaum-aufstellen\n
DTSTART;VALUE=DATE:20260430
DTEND;VALUE=DATE:20260501
LOCATION:KuStall\,Kirchwinkel 6\,37671 Höxter-Ottbergen\,Germany
SUMMARY:Maibaum aufstellen
URL:http://www.kulturgemeinschaft-ottbergen.de/index.php?option=com_jem&vie
 w=event&id=673:maibaum-aufstellen
END:VEVENT
BEGIN:VEVENT
UID:event674@Kulturgemeinschaft Ottbergen e.V.
DTSTAMP:20260420T030249Z
CATEGORIES:privat
DESCRIPTION:KuStall belegt\nKategorie: privat\nICS-Link: http://www.kulturg
 emeinschaft-ottbergen.de/index.php?option=com_jem&view=event&id=674:kustal
 l-belegt\n
DTSTART;VALUE=DATE:20260502
DTEND;VALUE=DATE:20260504
LOCATION:KuStall\,Kirchwinkel 6\,37671 Höxter-Ottbergen\,Germany
SUMMARY:KuStall belegt
URL:http://www.kulturgemeinschaft-ottbergen.de/index.php?option=com_jem&vie
 w=event&id=674:kustall-belegt
END:VEVENT
BEGIN:VEVENT
UID:event685@Kulturgemeinschaft Ottbergen e.V.
DTSTAMP:20260420T030249Z
CATEGORIES:privat
DESCRIPTION:KuStall belegt\nKategorie: privat\nICS-Link: http://www.kulturg
 emeinschaft-ottbergen.de/index.php?option=com_jem&view=event&id=685:kustal
 l-belegt\n
DTSTART;VALUE=DATE:20260509
DTEND;VALUE=DATE:20260512
LOCATION:KuStall\,Kirchwinkel 6\,37671 Höxter-Ottbergen\,Germany
SUMMARY:KuStall belegt
URL:http://www.kulturgemeinschaft-ottbergen.de/index.php?option=com_jem&vie
 w=event&id=685:kustall-belegt
END:VEVENT
BEGIN:VEVENT
UID:event629@Kulturgemeinschaft Ottbergen e.V.
DTSTAMP:20260420T030249Z
CATEGORIES:privat
DESCRIPTION:KuStall belegt\nKategorie: privat\nICS-Link: http://www.kulturg
 emeinschaft-ottbergen.de/index.php?option=com_jem&view=event&id=629:kustal
 l-belegt\n
DTSTART;VALUE=DATE:20260515
DTEND;VALUE=DATE:20260518
LOCATION:KuStall\,Kirchwinkel 6\,37671 Höxter-Ottbergen\,Germany
SUMMARY:KuStall belegt
URL:http://www.kulturgemeinschaft-ottbergen.de/index.php?option=com_jem&vie
 w=event&id=629:kustall-belegt
END:VEVENT
BEGIN:VEVENT
UID:event689@Kulturgemeinschaft Ottbergen e.V.
DTSTAMP:20260420T030249Z
CATEGORIES:privat
DESCRIPTION:KuStall belegt?\nKategorie: privat\nICS-Link: http://www.kultur
 gemeinschaft-ottbergen.de/index.php?option=com_jem&view=event&id=689:kusta
 ll-belegt\n
DTSTART;VALUE=DATE:20260522
DTEND;VALUE=DATE:20260525
LOCATION:KuStall\,Kirchwinkel 6\,37671 Höxter-Ottbergen\,Germany
SUMMARY:KuStall belegt?
URL:http://www.kulturgemeinschaft-ottbergen.de/index.php?option=com_jem&vie
 w=event&id=689:kustall-belegt
END:VEVENT
BEGIN:VEVENT
UID:event692@Kulturgemeinschaft Ottbergen e.V.
DTSTAMP:20260420T030249Z
CATEGORIES:privat
DESCRIPTION:KuStall belegt\nKategorie: privat\nICS-Link: http://www.kulturg
 emeinschaft-ottbergen.de/index.php?option=com_jem&view=event&id=692:kustal
 l-belegt\n
DTSTART;VALUE=DATE:20260522
DTEND;VALUE=DATE:20260525
LOCATION:KuStall\,Kirchwinkel 6\,37671 Höxter-Ottbergen\,Germany
SUMMARY:KuStall belegt
URL:http://www.kulturgemeinschaft-ottbergen.de/index.php?option=com_jem&vie
 w=event&id=692:kustall-belegt
END:VEVENT
BEGIN:VEVENT
UID:event672@Kulturgemeinschaft Ottbergen e.V.
DTSTAMP:20260420T030249Z
CATEGORIES:privat
DESCRIPTION:KuStall belegt\nKategorie: privat\nICS-Link: http://www.kulturg
 emeinschaft-ottbergen.de/index.php?option=com_jem&view=event&id=672:kustal
 l-belegt\n
DTSTART;VALUE=DATE:20260529
DTEND;VALUE=DATE:20260601
LOCATION:KuStall\,Kirchwinkel 6\,37671 Höxter-Ottbergen\,Germany
SUMMARY:KuStall belegt
URL:http://www.kulturgemeinschaft-ottbergen.de/index.php?option=com_jem&vie
 w=event&id=672:kustall-belegt
END:VEVENT
BEGIN:VEVENT
UID:event648@Kulturgemeinschaft Ottbergen e.V.
DTSTAMP:20260420T030249Z
CATEGORIES:privat
DESCRIPTION:KuStall belegt\nKategorie: privat\nICS-Link: http://www.kulturg
 emeinschaft-ottbergen.de/index.php?option=com_jem&view=event&id=648:kustal
 l-belegt\n
DTSTART;VALUE=DATE:20260605
DTEND;VALUE=DATE:20260608
LOCATION:KuStall\,Kirchwinkel 6\,37671 Höxter-Ottbergen\,Germany
SUMMARY:KuStall belegt
URL:http://www.kulturgemeinschaft-ottbergen.de/index.php?option=com_jem&vie
 w=event&id=648:kustall-belegt
END:VEVENT
BEGIN:VEVENT
UID:event686@Kulturgemeinschaft Ottbergen e.V.
DTSTAMP:20260420T030249Z
CATEGORIES:sonstige
DESCRIPTION:KuStall belegt\nKategorie: sonstige\nICS-Link: http://www.kultu
 rgemeinschaft-ottbergen.de/index.php?option=com_jem&view=event&id=686:kust
 all-belegt\n
DTSTART;VALUE=DATE:20260613
DTEND;VALUE=DATE:20260614
LOCATION:KuStall\,Kirchwinkel 6\,37671 Höxter-Ottbergen\,Germany
SUMMARY:KuStall belegt
URL:http://www.kulturgemeinschaft-ottbergen.de/index.php?option=com_jem&vie
 w=event&id=686:kustall-belegt
END:VEVENT
BEGIN:VEVENT
UID:event678@Kulturgemeinschaft Ottbergen e.V.
DTSTAMP:20260420T030249Z
CATEGORIES:privat
DESCRIPTION:KuStall belegt\nKategorie: privat\nICS-Link: http://www.kulturg
 emeinschaft-ottbergen.de/index.php?option=com_jem&view=event&id=678:kustal
 l-belegt\n
DTSTART;VALUE=DATE:20260619
DTEND;VALUE=DATE:20260622
LOCATION:KuStall\,Kirchwinkel 6\,37671 Höxter-Ottbergen\,Germany
SUMMARY:KuStall belegt
URL:http://www.kulturgemeinschaft-ottbergen.de/index.php?option=com_jem&vie
 w=event&id=678:kustall-belegt
END:VEVENT
BEGIN:VEVENT
UID:event621@Kulturgemeinschaft Ottbergen e.V.
DTSTAMP:20260420T030249Z
CATEGORIES:privat
DESCRIPTION:KuStall belegt\nKategorie: privat\nICS-Link: http://www.kulturg
 emeinschaft-ottbergen.de/index.php?option=com_jem&view=event&id=621:kustal
 l-belegt\n
DTSTART;VALUE=DATE:20260625
DTEND;VALUE=DATE:20260629
LOCATION:KuStall\,Kirchwinkel 6\,37671 Höxter-Ottbergen\,Germany
SUMMARY:KuStall belegt
URL:http://www.kulturgemeinschaft-ottbergen.de/index.php?option=com_jem&vie
 w=event&id=621:kustall-belegt
END:VEVENT
BEGIN:VEVENT
UID:event700@Kulturgemeinschaft Ottbergen e.V.
DTSTAMP:20260420T030249Z
CATEGORIES:privat
DESCRIPTION:KuStall belgt?\nKategorie: privat\nICS-Link: http://www.kulturg
 emeinschaft-ottbergen.de/index.php?option=com_jem&view=event&id=700:kustal
 l-belgt\n
DTSTART;VALUE=DATE:20260703
DTEND;VALUE=DATE:20260706
LOCATION:KuStall\,Kirchwinkel 6\,37671 Höxter-Ottbergen\,Germany
SUMMARY:KuStall belgt?
URL:http://www.kulturgemeinschaft-ottbergen.de/index.php?option=com_jem&vie
 w=event&id=700:kustall-belgt
END:VEVENT
BEGIN:VEVENT
UID:event671@Kulturgemeinschaft Ottbergen e.V.
DTSTAMP:20260420T030249Z
CATEGORIES:privat
DESCRIPTION:KuStall belegt\nKategorie: privat\nICS-Link: http://www.kulturg
 emeinschaft-ottbergen.de/index.php?option=com_jem&view=event&id=671:kustal
 l-belegt\n
DTSTART;VALUE=DATE:20260724
DTEND;VALUE=DATE:20260727
LOCATION:KuStall\,Kirchwinkel 6\,37671 Höxter-Ottbergen\,Germany
SUMMARY:KuStall belegt
URL:http://www.kulturgemeinschaft-ottbergen.de/index.php?option=com_jem&vie
 w=event&id=671:kustall-belegt
END:VEVENT
BEGIN:VEVENT
UID:event668@Kulturgemeinschaft Ottbergen e.V.
DTSTAMP:20260420T030249Z
CATEGORIES:privat
DESCRIPTION:KuStall belegt?\nKategorie: privat\nICS-Link: http://www.kultur
 gemeinschaft-ottbergen.de/index.php?option=com_jem&view=event&id=668:kusta
 ll-belegt\n
DTSTART;VALUE=DATE:20260731
DTEND;VALUE=DATE:20260803
LOCATION:KuStall\,Kirchwinkel 6\,37671 Höxter-Ottbergen\,Germany
SUMMARY:KuStall belegt?
URL:http://www.kulturgemeinschaft-ottbergen.de/index.php?option=com_jem&vie
 w=event&id=668:kustall-belegt
END:VEVENT
BEGIN:VEVENT
UID:event688@Kulturgemeinschaft Ottbergen e.V.
DTSTAMP:20260420T030249Z
CATEGORIES:privat
DESCRIPTION:KuStall belegt\nKategorie: privat\nICS-Link: http://www.kulturg
 emeinschaft-ottbergen.de/index.php?option=com_jem&view=event&id=688:kustal
 l-belegt\n
DTSTART;VALUE=DATE:20260807
DTEND;VALUE=DATE:20260810
LOCATION:KuStall\,Kirchwinkel 6\,37671 Höxter-Ottbergen\,Germany
SUMMARY:KuStall belegt
URL:http://www.kulturgemeinschaft-ottbergen.de/index.php?option=com_jem&vie
 w=event&id=688:kustall-belegt
END:VEVENT
BEGIN:VEVENT
UID:event638@Kulturgemeinschaft Ottbergen e.V.
DTSTAMP:20260420T030249Z
CATEGORIES:privat
DESCRIPTION:KuStall belegt\nKategorie: privat\nICS-Link: http://www.kulturg
 emeinschaft-ottbergen.de/index.php?option=com_jem&view=event&id=638:kustal
 l-belegt\n
DTSTART;VALUE=DATE:20260821
DTEND;VALUE=DATE:20260824
LOCATION:KuStall\,Kirchwinkel 6\,37671 Höxter-Ottbergen\,Germany
SUMMARY:KuStall belegt
URL:http://www.kulturgemeinschaft-ottbergen.de/index.php?option=com_jem&vie
 w=event&id=638:kustall-belegt
END:VEVENT
BEGIN:VEVENT
UID:event693@Kulturgemeinschaft Ottbergen e.V.
DTSTAMP:20260420T030249Z
CATEGORIES:privat
DESCRIPTION:KuStall belegt?\nKategorie: privat\nICS-Link: http://www.kultur
 gemeinschaft-ottbergen.de/index.php?option=com_jem&view=event&id=693:kusta
 ll-belegt\n
DTSTART;VALUE=DATE:20260828
DTEND;VALUE=DATE:20260831
LOCATION:KuStall\,Kirchwinkel 6\,37671 Höxter-Ottbergen\,Germany
SUMMARY:KuStall belegt?
URL:http://www.kulturgemeinschaft-ottbergen.de/index.php?option=com_jem&vie
 w=event&id=693:kustall-belegt
END:VEVENT
BEGIN:VEVENT
UID:event600@Kulturgemeinschaft Ottbergen e.V.
DTSTAMP:20260420T030249Z
CATEGORIES:privat
DESCRIPTION:KuStall belegt?\nKategorie: privat\nICS-Link: http://www.kultur
 gemeinschaft-ottbergen.de/index.php?option=com_jem&view=event&id=600:kusta
 ll-belegt\n
DTSTART;VALUE=DATE:20260904
DTEND;VALUE=DATE:20260907
LOCATION:KuStall\,Kirchwinkel 6\,37671 Höxter-Ottbergen\,Germany
SUMMARY:KuStall belegt?
URL:http://www.kulturgemeinschaft-ottbergen.de/index.php?option=com_jem&vie
 w=event&id=600:kustall-belegt
END:VEVENT
BEGIN:VEVENT
UID:event670@Kulturgemeinschaft Ottbergen e.V.
DTSTAMP:20260420T030249Z
CATEGORIES:privat
DESCRIPTION:KuStall belegt\nKategorie: privat\nICS-Link: http://www.kulturg
 emeinschaft-ottbergen.de/index.php?option=com_jem&view=event&id=670:kustal
 l-belegt\n
DTSTART;VALUE=DATE:20260904
DTEND;VALUE=DATE:20260907
LOCATION:KuStall\,Kirchwinkel 6\,37671 Höxter-Ottbergen\,Germany
SUMMARY:KuStall belegt
URL:http://www.kulturgemeinschaft-ottbergen.de/index.php?option=com_jem&vie
 w=event&id=670:kustall-belegt
END:VEVENT
BEGIN:VEVENT
UID:event644@Kulturgemeinschaft Ottbergen e.V.
DTSTAMP:20260420T030249Z
CATEGORIES:privat
DESCRIPTION:KuStall belegt\nKategorie: privat\nICS-Link: http://www.kulturg
 emeinschaft-ottbergen.de/index.php?option=com_jem&view=event&id=644:kustal
 l-belegt\n
DTSTART;VALUE=DATE:20260910
DTEND;VALUE=DATE:20260915
LOCATION:KuStall\,Kirchwinkel 6\,37671 Höxter-Ottbergen\,Germany
SUMMARY:KuStall belegt
URL:http://www.kulturgemeinschaft-ottbergen.de/index.php?option=com_jem&vie
 w=event&id=644:kustall-belegt
END:VEVENT
BEGIN:VEVENT
UID:event634@Kulturgemeinschaft Ottbergen e.V.
DTSTAMP:20260420T030249Z
CATEGORIES:Kulturgemeinschaft Ottbergen
DESCRIPTION:Thomas Philipzen\nKategorie: Kulturgemeinschaft Ottbergen\nICS-
 Link: http://www.kulturgemeinschaft-ottbergen.de/index.php?option=com_jem&
 view=event&id=634:thomas-philipzen\n
DTSTART;VALUE=DATE:20260919
DTEND;VALUE=DATE:20260920
LOCATION:KuStall\,Kirchwinkel 6\,37671 Höxter-Ottbergen\,Germany
SUMMARY:Thomas Philipzen
URL:http://www.kulturgemeinschaft-ottbergen.de/index.php?option=com_jem&vie
 w=event&id=634:thomas-philipzen
END:VEVENT
BEGIN:VEVENT
UID:event659@Kulturgemeinschaft Ottbergen e.V.
DTSTAMP:20260420T030249Z
CATEGORIES:Kulturgemeinschaft Ottbergen
DESCRIPTION:25 Jahre Kulturgemeinschaft\nKategorie: Kulturgemeinschaft Ottb
 ergen\nICS-Link: http://www.kulturgemeinschaft-ottbergen.de/index.php?opti
 on=com_jem&view=event&id=659:25-jahre-kulturgemeinschaft\n
DTSTART;VALUE=DATE:20260920
DTEND;VALUE=DATE:20260921
LOCATION:KuStall\,Kirchwinkel 6\,37671 Höxter-Ottbergen\,Germany
SUMMARY:25 Jahre Kulturgemeinschaft
URL:http://www.kulturgemeinschaft-ottbergen.de/index.php?option=com_jem&vie
 w=event&id=659:25-jahre-kulturgemeinschaft
END:VEVENT
BEGIN:VEVENT
UID:event657@Kulturgemeinschaft Ottbergen e.V.
DTSTAMP:20260420T030249Z
CATEGORIES:Heimatschutzverein
DESCRIPTION:Königschiessen\nKategorie: Heimatschutzverein\nICS-Link: http:/
 /www.kulturgemeinschaft-ottbergen.de/index.php?option=com_jem&view=event&i
 d=657:koenigschiessen\n
DTSTART;VALUE=DATE:20260926
DTEND;VALUE=DATE:20260928
LOCATION:KuStall\,Kirchwinkel 6\,37671 Höxter-Ottbergen\,Germany
SUMMARY:Königschiessen
URL:http://www.kulturgemeinschaft-ottbergen.de/index.php?option=com_jem&vie
 w=event&id=657:koenigschiessen
END:VEVENT
BEGIN:VEVENT
UID:event698@Kulturgemeinschaft Ottbergen e.V.
DTSTAMP:20260420T030249Z
CATEGORIES:privat
DESCRIPTION:KuStall belegt\nKategorie: privat\nICS-Link: http://www.kulturg
 emeinschaft-ottbergen.de/index.php?option=com_jem&view=event&id=698:kustal
 l-belegt\n
DTSTART;VALUE=DATE:20261002
DTEND;VALUE=DATE:20261005
LOCATION:KuStall\,Kirchwinkel 6\,37671 Höxter-Ottbergen\,Germany
SUMMARY:KuStall belegt
URL:http://www.kulturgemeinschaft-ottbergen.de/index.php?option=com_jem&vie
 w=event&id=698:kustall-belegt
END:VEVENT
BEGIN:VEVENT
UID:event695@Kulturgemeinschaft Ottbergen e.V.
DTSTAMP:20260420T030249Z
CATEGORIES:privat
DESCRIPTION:KuStall belegt\nKategorie: privat\nICS-Link: http://www.kulturg
 emeinschaft-ottbergen.de/index.php?option=com_jem&view=event&id=695:kustal
 l-belegt\n
DTSTART;VALUE=DATE:20261015
DTEND;VALUE=DATE:20261019
LOCATION:KuStall\,Kirchwinkel 6\,37671 Höxter-Ottbergen\,Germany
SUMMARY:KuStall belegt
URL:http://www.kulturgemeinschaft-ottbergen.de/index.php?option=com_jem&vie
 w=event&id=695:kustall-belegt
END:VEVENT
BEGIN:VEVENT
UID:event643@Kulturgemeinschaft Ottbergen e.V.
DTSTAMP:20260420T030249Z
CATEGORIES:Kulturgemeinschaft Ottbergen
DESCRIPTION:Hans Werner Olm\nKategorie: Kulturgemeinschaft Ottbergen\nICS-L
 ink: http://www.kulturgemeinschaft-ottbergen.de/index.php?option=com_jem&v
 iew=event&id=643:hans-werner-olm\n
DTSTART;VALUE=DATE:20261023
DTEND;VALUE=DATE:20261024
LOCATION:KuStall\,Kirchwinkel 6\,37671 Höxter-Ottbergen\,Germany
SUMMARY:Hans Werner Olm
URL:http://www.kulturgemeinschaft-ottbergen.de/index.php?option=com_jem&vie
 w=event&id=643:hans-werner-olm
END:VEVENT
BEGIN:VEVENT
UID:event696@Kulturgemeinschaft Ottbergen e.V.
DTSTAMP:20260420T030249Z
CATEGORIES:privat
DESCRIPTION:KuStall belegt\nKategorie: privat\nICS-Link: http://www.kulturg
 emeinschaft-ottbergen.de/index.php?option=com_jem&view=event&id=696:kustal
 l-belegt\n
DTSTART;VALUE=DATE:20261120
DTEND;VALUE=DATE:20261124
LOCATION:KuStall\,Kirchwinkel 6\,37671 Höxter-Ottbergen\,Germany
SUMMARY:KuStall belegt
URL:http://www.kulturgemeinschaft-ottbergen.de/index.php?option=com_jem&vie
 w=event&id=696:kustall-belegt
END:VEVENT
BEGIN:VEVENT
UID:event636@Kulturgemeinschaft Ottbergen e.V.
DTSTAMP:20260420T030249Z
CATEGORIES:kfd
DESCRIPTION:Adventskaffee\nKategorie: kfd\nICS-Link: http://www.kulturgemei
 nschaft-ottbergen.de/index.php?option=com_jem&view=event&id=636:adventskaf
 fee\n
DTSTART;VALUE=DATE:20261129
DTEND;VALUE=DATE:20261130
LOCATION:KuStall\,Kirchwinkel 6\,37671 Höxter-Ottbergen\,Germany
SUMMARY:Adventskaffee
URL:http://www.kulturgemeinschaft-ottbergen.de/index.php?option=com_jem&vie
 w=event&id=636:adventskaffee
END:VEVENT
BEGIN:VEVENT
UID:event697@Kulturgemeinschaft Ottbergen e.V.
DTSTAMP:20260420T030249Z
CATEGORIES:privat
DESCRIPTION:KuStall belegt?\nKategorie: privat\nICS-Link: http://www.kultur
 gemeinschaft-ottbergen.de/index.php?option=com_jem&view=event&id=697:kusta
 ll-belegt\n
DTSTART;VALUE=DATE:20270514
DTEND;VALUE=DATE:20270517
LOCATION:KuStall\,Kirchwinkel 6\,37671 Höxter-Ottbergen\,Germany
SUMMARY:KuStall belegt?
URL:http://www.kulturgemeinschaft-ottbergen.de/index.php?option=com_jem&vie
 w=event&id=697:kustall-belegt
END:VEVENT
BEGIN:VEVENT
UID:event699@Kulturgemeinschaft Ottbergen e.V.
DTSTAMP:20260420T030249Z
CATEGORIES:privat
DESCRIPTION:KuStall belgt?\nKategorie: privat\nICS-Link: http://www.kulturg
 emeinschaft-ottbergen.de/index.php?option=com_jem&view=event&id=699:kustal
 l-belgt\n
DTSTART;VALUE=DATE:20270521
DTEND;VALUE=DATE:20270524
LOCATION:KuStall\,Kirchwinkel 6\,37671 Höxter-Ottbergen\,Germany
SUMMARY:KuStall belgt?
URL:http://www.kulturgemeinschaft-ottbergen.de/index.php?option=com_jem&vie
 w=event&id=699:kustall-belgt
END:VEVENT
BEGIN:VEVENT
UID:event687@Kulturgemeinschaft Ottbergen e.V.
DTSTAMP:20260420T030249Z
CATEGORIES:Heimatschutzverein
DESCRIPTION:KuStall belegt?\nKategorie: Heimatschutzverein\nICS-Link: http:
 //www.kulturgemeinschaft-ottbergen.de/index.php?option=com_jem&view=event&
 id=687:kustall-belegt\n
DTSTART;VALUE=DATE:20270702
DTEND;VALUE=DATE:20270706
LOCATION:KuStall\,Kirchwinkel 6\,37671 Höxter-Ottbergen\,Germany
SUMMARY:KuStall belegt?
URL:http://www.kulturgemeinschaft-ottbergen.de/index.php?option=com_jem&vie
 w=event&id=687:kustall-belegt
END:VEVENT
END:VCALENDAR
