BEGIN:VCALENDAR
VERSION:2.0
PRODID:-//85.13.132.198//NONSGML kigkonsult.se iCalcreator 2.20//
CALSCALE:GREGORIAN
METHOD:PUBLISH
X-WR-TIMEZONE:Europe/Berlin
BEGIN:VEVENT
UID:event700@Kulturgemeinschaft Ottbergen e.V.
DTSTAMP:20260420T054631Z
CATEGORIES:privat
DESCRIPTION:KuStall belgt?\nKategorie: privat\nICS-Link: http://www.kulturg
 emeinschaft-ottbergen.de/index.php?option=com_jem&view=event&id=700:kustal
 l-belgt\n
DTSTART;VALUE=DATE:20260703
DTEND;VALUE=DATE:20260706
LOCATION:KuStall\,Kirchwinkel 6\,37671 Höxter-Ottbergen
SUMMARY:KuStall belgt?
URL:http://www.kulturgemeinschaft-ottbergen.de/index.php?option=com_jem&vie
 w=event&id=700:kustall-belgt
END:VEVENT
END:VCALENDAR
