BEGIN:VCALENDAR
VERSION:2.0
PRODID:-//85.13.132.198//NONSGML kigkonsult.se iCalcreator 2.20//
CALSCALE:GREGORIAN
METHOD:PUBLISH
X-WR-TIMEZONE:Europe/Berlin
BEGIN:VEVENT
UID:event668@Kulturgemeinschaft Ottbergen e.V.
DTSTAMP:20260420T055211Z
CATEGORIES:privat
DESCRIPTION:KuStall belegt?\nKategorie: privat\nICS-Link: http://www.kultur
 gemeinschaft-ottbergen.de/index.php?option=com_jem&view=event&id=668:kusta
 ll-belegt\n
DTSTART;VALUE=DATE:20260731
DTEND;VALUE=DATE:20260803
LOCATION:KuStall\,Kirchwinkel 6\,37671 Höxter-Ottbergen
SUMMARY:KuStall belegt?
URL:http://www.kulturgemeinschaft-ottbergen.de/index.php?option=com_jem&vie
 w=event&id=668:kustall-belegt
END:VEVENT
END:VCALENDAR
