BEGIN:VCALENDAR
VERSION:2.0
PRODID:-//85.13.132.198//NONSGML kigkonsult.se iCalcreator 2.20//
CALSCALE:GREGORIAN
METHOD:PUBLISH
X-WR-TIMEZONE:Europe/Berlin
BEGIN:VEVENT
UID:event196@Kulturgemeinschaft Ottbergen e.V.
DTSTAMP:20260420T013946Z
CATEGORIES:Kulturgemeinschaft Ottbergen
DESCRIPTION:Kabarettabend mit Erwin Grosche\nKategorie: Kulturgemeinschaft 
 Ottbergen\nICS-Link: http://www.kulturgemeinschaft-ottbergen.de/index.php?
 option=com_jem&view=event&id=196:kabarettabend-mit-erwin-grosche\n
DTSTART;TZID=Europe/Berlin:20190330T200000
DTEND;TZID=Europe/Berlin:20190330T200000
LOCATION:KuStall\,Kirchwinkel 6\,37671 Höxter-Ottbergen
SUMMARY:Kabarettabend mit Erwin Grosche
URL:http://www.kulturgemeinschaft-ottbergen.de/index.php?option=com_jem&vie
 w=event&id=196:kabarettabend-mit-erwin-grosche
END:VEVENT
END:VCALENDAR
